BEGIN:VCALENDAR
VERSION:2.0
PRODID:-//Muscular Dystrophy News - ECPv6.15.17.1//NONSGML v1.0//EN
CALSCALE:GREGORIAN
METHOD:PUBLISH
X-ORIGINAL-URL:https://musculardystrophynews.com
X-WR-CALDESC:Events for Muscular Dystrophy News
REFRESH-INTERVAL;VALUE=DURATION:PT1H
X-Robots-Tag:noindex
X-PUBLISHED-TTL:PT1H
BEGIN:VTIMEZONE
TZID:America/Chicago
BEGIN:DAYLIGHT
TZOFFSETFROM:-0600
TZOFFSETTO:-0500
TZNAME:CDT
DTSTART:20240310T080000
END:DAYLIGHT
BEGIN:STANDARD
TZOFFSETFROM:-0500
TZOFFSETTO:-0600
TZNAME:CST
DTSTART:20241103T070000
END:STANDARD
BEGIN:DAYLIGHT
TZOFFSETFROM:-0600
TZOFFSETTO:-0500
TZNAME:CDT
DTSTART:20250309T080000
END:DAYLIGHT
BEGIN:STANDARD
TZOFFSETFROM:-0500
TZOFFSETTO:-0600
TZNAME:CST
DTSTART:20251102T070000
END:STANDARD
BEGIN:DAYLIGHT
TZOFFSETFROM:-0600
TZOFFSETTO:-0500
TZNAME:CDT
DTSTART:20260308T080000
END:DAYLIGHT
BEGIN:STANDARD
TZOFFSETFROM:-0500
TZOFFSETTO:-0600
TZNAME:CST
DTSTART:20261101T070000
END:STANDARD
END:VTIMEZONE
BEGIN:VEVENT
DTSTART;TZID=America/Chicago:20250801T160000
DTEND;TZID=America/Chicago:20250805T140000
DTSTAMP:20260420T122731
CREATED:20250227T180910Z
LAST-MODIFIED:20250303T195147Z
UID:10000011-1754064000-1754402400@musculardystrophynews.com
SUMMARY:Scientific & Family (SciFam) Conference
DESCRIPTION:SciFam is a four day\, in-person\, neuromuscular conference for stakeholders in congenital muscular dystrophy\, nemaline myopathy\, and titinopathy. This event is being hosted by Cure CMD\, A Foundation Building Strength for Nemaline Myopathy and Team Titin. Please email scifam@curecmd.org for more information.
URL:https://musculardystrophynews.com/event/scientific-family-scifam-conference/
LOCATION:Hilton Philadelphia at Penn’s Landing\, 201 S Christopher Columbus Bl\, Philadelphia\, PA\, 19106\, United States
CATEGORIES:Cure CMD
ORGANIZER;CN="Cure CMD":MAILTO:info@curecmd.org
END:VEVENT
BEGIN:VEVENT
DTSTART;TZID=America/Chicago:20250426T130000
DTEND;TZID=America/Chicago:20250426T140000
DTSTAMP:20260420T122731
CREATED:20250227T182915Z
LAST-MODIFIED:20250303T195241Z
UID:10000012-1745672400-1745676000@musculardystrophynews.com
SUMMARY:Cure CMD Webinar: Recreational Sports Opportunities
DESCRIPTION:Finding your place in sports can be challenging for those living with CMD. Learn how to successfully start your\nown local adaptive league with peers just like you. We’ll share exciting opportunities to create one-of-a-kind memories with an athlete\, team\, or sports organization for those living with a rare disease. Please email outreach@curecmd.org for more information.
URL:https://musculardystrophynews.com/event/cure-cmd-webinar-recreational-sports-opportunities/
CATEGORIES:Cure CMD
ATTACH;FMTTYPE=image/png:https://musculardystrophynews.com/wp-content/uploads/2025/02/Cure-CMD-Webinar-Image-e1740680910430.png
ORGANIZER;CN="Cure CMD":MAILTO:info@curecmd.org
END:VEVENT
END:VCALENDAR